BEGIN:VCALENDAR
VERSION:2.0
PRODID:-//eventon.com NONSGML v1.0//EN
CALSCALE:GREGORIAN
METHOD:PUBLISH
BEGIN:VEVENT
UID:69e9f59f6e501
DTSTAMP:20260423T103407Z
DTSTART:20230805T233000Z
DTEND:20230806T020000Z
LOCATION:Teatro Vorterix Salta 3519
SUMMARY:Sobredosis de soda
DESCRIPTION:Un nuevo universo. Imaginar cómo sería un show de Soda en el 
 presente con una propuesta escenográfica y tecnológica moderna y de vangu
 ardia\,  respetando así el espíritu innovador de la banda de rock más im
 portante de América Latina.\nhttps://rosariolaciudad.com.ar/agenda/sobredo
 sis-de-soda/
URL:https://rosariolaciudad.com.ar/agenda/sobredosis-de-soda/
END:VEVENT
END:VCALENDAR