BEGIN:VCALENDAR
VERSION:2.0
PRODID:-//eventon.com NONSGML v1.0//EN
CALSCALE:GREGORIAN
METHOD:PUBLISH
BEGIN:VEVENT
UID:69e98ee86ef91
DTSTAMP:20260423T031552Z
DTSTART:20260424T210000Z
DTEND:20260425T020000Z
LOCATION:CENTRO CULTURAL ROBERTO FONTANARROSA SAN MARTIN GRAL. JOSE 1080
SUMMARY:NOCHE DE LAS LIBRERIAS
DESCRIPTION:LibrerÃ­as de toda la ciudad se suman a La Noche de las LibrerÃ
 ­as\,  una propuesta que combina descuentos\,  promociones y actividades es
 peciales para celebrar el mundo del libro; con epicentro en la explanada de
 l Centro Cultural Roberto Fontanarrosa\,  habrÃ¡ feria de editoriales\,  li
 brerÃ­as de viejo y virtuales\,  DJ en vivo[..]\nhttps://rosariolaciudad.co
 m.ar/agenda/noche-de-las-librerias-3/
URL:https://rosariolaciudad.com.ar/agenda/noche-de-las-librerias-3/
END:VEVENT
END:VCALENDAR