BEGIN:VCALENDAR
VERSION:2.0
PRODID:-//eventon.com NONSGML v1.0//EN
CALSCALE:GREGORIAN
METHOD:PUBLISH
BEGIN:VEVENT
UID:69e98e8b1973a
DTSTAMP:20260423T031419Z
DTSTART:20260424T233000Z
DTEND:20260424T233000Z
LOCATION:El Cairo SANTA FE 1120
SUMMARY:EL DOCU DE DIVIDIDOS - SONIDOS\,  BARRO Y PIEL
DESCRIPTION:Divididos\,  la mítica “aplanadora del rock”\,  llega a Ro
 sario y en el Cine Público El Cairo se vive la previa con una propuesta es
 pecial que incluye la proyección del documental Sonidos\,  barro y piel\, 
  centrado en la esencia del power trío\,  además de una charla con su dir
 ector sobre el[..]\nhttps://rosariolaciudad.com.ar/agenda/el-docu-de-dividi
 dos-sonidos-barro-y-piel/
URL:https://rosariolaciudad.com.ar/agenda/el-docu-de-divididos-sonidos-barro-y-piel/
END:VEVENT
END:VCALENDAR