BEGIN:VCALENDAR
VERSION:2.0
PRODID:-//eventon.com NONSGML v1.0//EN
CALSCALE:GREGORIAN
METHOD:PUBLISH
BEGIN:VEVENT
UID:69e98e7ef178d
DTSTAMP:20260423T031406Z
DTSTART:20260426T223000Z
DTEND:20260426T223000Z
LOCATION:Centro cultural atlas
SUMMARY:GABRIEL CARTAÑÁ
DESCRIPTION:Gabriel Cartaña llega a Rosario con Íntimo\,  un encuentro pa
 rticipativo que propone un mano a mano con el público para reflexionar sob
 re la vida\,  el amor y los vínculos; con un enfoque cercano y dinámico\,
   el reconocido psicólogo invita a hacer preguntas y encontrar respuestas 
 en una experiencia que combina[..]\nhttps://rosariolaciudad.com.ar/agenda/g
 abriel-cartana/
URL:https://rosariolaciudad.com.ar/agenda/gabriel-cartana/
END:VEVENT
END:VCALENDAR