BEGIN:VCALENDAR
VERSION:2.0
PRODID:-//eventon.com NONSGML v1.0//EN
CALSCALE:GREGORIAN
METHOD:PUBLISH
BEGIN:VEVENT
UID:69e98e8b13f8b
DTSTAMP:20260423T031419Z
DTSTART:20260424T000000Z
DTEND:20260424T000000Z
LOCATION:Centro cultural atlas
SUMMARY:PUPINA PLOMER
DESCRIPTION:La historiadora Florencia Plomer presenta su unipersonal Depend
 e: El pasado no es el problema\,  una propuesta que combina investigación\
 ,  humor y reflexión política para cuestionar las formas en que se constr
 uye y transmite la historia; a través de preguntas sobre la memoria\,  los
  relatos oficiales y los conflictos que persisten\, [..]\nhttps://rosariola
 ciudad.com.ar/agenda/pupina-plomer/
URL:https://rosariolaciudad.com.ar/agenda/pupina-plomer/
END:VEVENT
END:VCALENDAR