BEGIN:VCALENDAR
VERSION:2.0
PRODID:-//eventon.com NONSGML v1.0//EN
CALSCALE:GREGORIAN
METHOD:PUBLISH
BEGIN:VEVENT
UID:69e9914069f6c
DTSTAMP:20260423T032552Z
DTSTART:20260426T000000Z
DTEND:20260426T000000Z
LOCATION:Complejo Cultural Atlas Mitre
SUMMARY:DR. MÚSICA EN ROSARIO - DARIO JALFIN
DESCRIPTION:Darío Jalfin\,  conocido como el Dr. Música\,  presenta un es
 pectáculo donde analiza\,  interpreta y revela los secretos detrás de gra
 ndes obras del rock nacional\,  en esta ocasión centrado en la figura de C
 harly García; con un estilo cercano\,  dinámico y participativo\,  la pro
 puesta invita a descubrir por qué estas canciones[..]\nhttps://rosariolaci
 udad.com.ar/agenda/dr-musica-en-rosario-dario-jalfin/
URL:https://rosariolaciudad.com.ar/agenda/dr-musica-en-rosario-dario-jalfin/
END:VEVENT
END:VCALENDAR