BEGIN:VCALENDAR
VERSION:2.0
PRODID:-//eventon.com NONSGML v1.0//EN
CALSCALE:GREGORIAN
METHOD:PUBLISH
BEGIN:VEVENT
UID:69e98ef4c5e53
DTSTAMP:20260423T031604Z
DTSTART:20260426T233000Z
DTEND:20260427T020000Z
LOCATION:Casa Brava Pichincha 120
SUMMARY:JOSE LUIS AGUIRRE
DESCRIPTION:JosÃ© Luis Aguirre llega a Rosario el Domingo 26 de Abril para 
 presentarse en Casa Brava\,  oportunidad imperdible para poder vivenciar cÃ
 ³mo las canciones se transforman en territorio compartido y la mÃºsica vuel
 ve a ser ese espacio de encuentro necesario. Aguirre viene haciendo un reco
 rrido por distintas ciudades de nuestro[..]\nhttps://rosariolaciudad.com.ar
 /agenda/jose-luis-aguirre-llega-a-casa-brava/
URL:https://rosariolaciudad.com.ar/agenda/jose-luis-aguirre-llega-a-casa-brava/
END:VEVENT
END:VCALENDAR