BEGIN:VCALENDAR
VERSION:2.0
PRODID:-//eventon.com NONSGML v1.0//EN
CALSCALE:GREGORIAN
METHOD:PUBLISH
BEGIN:VEVENT
UID:69e88cccdd1df
DTSTAMP:20260422T085436Z
DTSTART:20260418T130000Z
DTEND:20260420T020000Z
LOCATION:Centro Cultural Parque de EspaÃ±a Sarmiento y el RÃ­Â­o
SUMMARY:CHISPA
DESCRIPTION:El Centro Cultural Parque de EspaÃ±a presenta CHISPA\,  un encu
 entro de animaciÃ³n contemporÃ¡nea en formato breve que reÃºne una selecciÃ
 ³n de cortometrajes nacionales e internacionales con obras del Festival Int
 ernacional PLUM!\,  el Punto y Raya Festival y el proyecto rosarino Lenguam
 adre\,  junto a producciones de la Escuela para Animadores Rosario[..]\nhtt
 ps://rosariolaciudad.com.ar/agenda/chispa/
URL:https://rosariolaciudad.com.ar/agenda/chispa/
END:VEVENT
END:VCALENDAR