BEGIN:VCALENDAR
VERSION:2.0
PRODID:-//eventon.com NONSGML v1.0//EN
CALSCALE:GREGORIAN
METHOD:PUBLISH
BEGIN:VEVENT
UID:69e88ccc72bca
DTSTAMP:20260422T085436Z
DTSTART:20260418T233000Z
DTEND:20260418T233000Z
LOCATION:Teatro Lavarden Sarmiento 1201 (esquina Mendoza)
SUMMARY:CAMERATA ROSARIO
DESCRIPTION:Una noche dedicada al universo sonoro de Ástor Piazzolla: Esta
 ciones del Ángel propone un recorrido por dos de sus obras más representa
 tivas\,  Las Cuatro Estaciones Porteñas y la Suite del Ángel\,  en versio
 nes para orquesta de cuerdas y violín solista. El concierto contará con l
 a participación especial del violinista Jeremías[..]\nhttps://rosariolaci
 udad.com.ar/agenda/camerata-rosario/
URL:https://rosariolaciudad.com.ar/agenda/camerata-rosario/
END:VEVENT
END:VCALENDAR