BEGIN:VCALENDAR
VERSION:2.0
PRODID:-//eventon.com NONSGML v1.0//EN
CALSCALE:GREGORIAN
METHOD:PUBLISH
BEGIN:VEVENT
UID:69e6077d3ac6e
DTSTAMP:20260420T110117Z
DTSTART:20260414T230000Z
DTEND:20260414T230000Z
LOCATION:Teatro El Circulo Laprida y Mendoza
SUMMARY:EL LAGO DE LOS CISNES SOBRE HIELO - BALLET DE MOSCU
DESCRIPTION:La compañía Ballet sobre Hielo de Moscú presenta una impacta
 nte versión de un clásico de amor y tragedia\,  donde la elegancia del ba
 llet ruso se fusiona con la destreza del patinaje artístico. Con bailarine
 s-patinadores de gran nivel\,  la obra se desarrolla sobre una pista ecoló
 gica que recrea la sensación del[..]\nhttps://rosariolaciudad.com.ar/agend
 a/el-lago-de-los-cisnes-sobre-hielo-ballet-de-moscu/
URL:https://rosariolaciudad.com.ar/agenda/el-lago-de-los-cisnes-sobre-hielo-ballet-de-moscu/
END:VEVENT
END:VCALENDAR