BEGIN:VCALENDAR
VERSION:2.0
PRODID:-//eventon.com NONSGML v1.0//EN
CALSCALE:GREGORIAN
METHOD:PUBLISH
BEGIN:VEVENT
UID:69e605e665893
DTSTAMP:20260420T105430Z
DTSTART:20260419T000000Z
DTEND:20260419T000000Z
LOCATION:Teatro El Circulo Laprida y Mendoza
SUMMARY:SERGIO TORRES
DESCRIPTION:SERGIO TORRES\,  uno de los cantantes de cumbia más reconocido
  de Santa Fe\,  festeja su cumpleaños con una presentación el sábado 18 
 de abril\,  a las 21 hs\,  en el Teatro El Círculo\,  de Rosario Podés co
 mprar tu entrada AQUÍ. Mirá todos los eventos de nuestra agenda\nhttps://
 rosariolaciudad.com.ar/agenda/sergio-torres-3/
URL:https://rosariolaciudad.com.ar/agenda/sergio-torres-3/
END:VEVENT
END:VCALENDAR