BEGIN:VCALENDAR
VERSION:2.0
PRODID:-//eventon.com NONSGML v1.0//EN
CALSCALE:GREGORIAN
METHOD:PUBLISH
BEGIN:VEVENT
UID:69e8a10e4b160
DTSTAMP:20260422T102102Z
DTSTART:20260416T003000Z
DTEND:20260416T003000Z
LOCATION:City Center Rosario Bv. Oroño y Av. Circunvalación
SUMMARY:MEMPHIS LA BLUSERA
DESCRIPTION:La histórica banda Memphis La Blusera se presenta en el espaci
 o Jarana del City Center Rosario con una noche que promete lo mejor del blu
 es y el rock nacional. Dueños de un estilo inconfundible que fusiona blues
 \,  rock y soul\,  regresan a los escenarios con un show cargado de clásic
 os[..]\nhttps://rosariolaciudad.com.ar/agenda/memphis-la-blusera/
URL:https://rosariolaciudad.com.ar/agenda/memphis-la-blusera/
END:VEVENT
END:VCALENDAR