BEGIN:VCALENDAR
VERSION:2.0
PRODID:-//eventon.com NONSGML v1.0//EN
CALSCALE:GREGORIAN
METHOD:PUBLISH
BEGIN:VEVENT
UID:69e626dee0950
DTSTAMP:20260420T131510Z
DTSTART:20260417T000000Z
DTEND:20260417T000000Z
LOCATION:Teatro Broadway SAN LORENZO 1223 ROSARIO
SUMMARY:CACHO DEICAS
DESCRIPTION:El reconocido cantante Cacho Deicas\,  histórico ex líder de 
 Los Palmeras\,  llega con un show que repasará los grandes éxitos de su c
 arrera\,  en una noche ideal para reencontrarse con la esencia de la cumbia
  santafesina y la voz de uno de sus máximos referentes. Podés comprar tus
  entradas AQUÍ.[..]\nhttps://rosariolaciudad.com.ar/agenda/cacho-deicas/
URL:https://rosariolaciudad.com.ar/agenda/cacho-deicas/
END:VEVENT
END:VCALENDAR