BEGIN:VCALENDAR
VERSION:2.0
PRODID:-//eventon.com NONSGML v1.0//EN
CALSCALE:GREGORIAN
METHOD:PUBLISH
BEGIN:VEVENT
UID:69e60682c95b0
DTSTAMP:20260420T105706Z
DTSTART:20260418T230000Z
DTEND:20260418T230000Z
LOCATION:Teatro Astengo Mitre 754
SUMMARY:SOLTAR PARA SER FELIZ
DESCRIPTION:El periodista y escritor Mario Massaccesi y la psicóloga y coa
 ch Patricia Daleiro llevan al teatro su exitoso libro Soltar para Ser Feliz
  con una propuesta escénica que combina humor\,  emoción e historias pers
 onales para invitar al público a reflexionar sobre qué significa soltar y
  cómo hacerlo. El espectáculo surge[..]\nhttps://rosariolaciudad.com.ar/a
 genda/soltar-para-ser-feliz-2/
URL:https://rosariolaciudad.com.ar/agenda/soltar-para-ser-feliz-2/
END:VEVENT
END:VCALENDAR