BEGIN:VCALENDAR
VERSION:2.0
PRODID:-//eventon.com NONSGML v1.0//EN
CALSCALE:GREGORIAN
METHOD:PUBLISH
BEGIN:VEVENT
UID:69e98eb4a556f
DTSTAMP:20260423T031500Z
DTSTART:20260424T230000Z
DTEND:20260424T230000Z
LOCATION:Bioceres Arena Cafferata 729
SUMMARY:ESTELARES
DESCRIPTION:La banda de rock nacional Estelares llega a Rosario para celebr
 ar los 20 años de su emblemático álbum Sistema Nervioso Central con un s
 how especial en Bioceres Arena. Liderados por Manuel Moretti\,  el grupo re
 pasará en vivo las canciones de este disco clave en su carrera\,  junto a 
 otros clásicos[..]\nhttps://rosariolaciudad.com.ar/agenda/estelares-3/
URL:https://rosariolaciudad.com.ar/agenda/estelares-3/
END:VEVENT
END:VCALENDAR