BEGIN:VCALENDAR
VERSION:2.0
PRODID:-//eventon.com NONSGML v1.0//EN
CALSCALE:GREGORIAN
METHOD:PUBLISH
BEGIN:VEVENT
UID:69e98ee871ba7
DTSTAMP:20260423T031552Z
DTSTART:20260423T223000Z
DTEND:20260423T223000Z
LOCATION:Bioceres Arena Cafferata 729
SUMMARY:FIESTA FA!
DESCRIPTION:La Fiesta FA! llega a Rosario para transformar la noche en una 
 verdadera celebración musical en Bióceres Arena. El evento\,  inspirado e
 n el popular ciclo creado por Mex Urtizberea\,  propone una experiencia que
  combina música en vivo\,  invitados especiales y un clima festivo donde d
 istintos artistas se cruzan sobre el[..]\nhttps://rosariolaciudad.com.ar/ag
 enda/fiesta-fa/
URL:https://rosariolaciudad.com.ar/agenda/fiesta-fa/
END:VEVENT
END:VCALENDAR