BEGIN:VCALENDAR
VERSION:2.0
PRODID:-//eventon.com NONSGML v1.0//EN
CALSCALE:GREGORIAN
METHOD:PUBLISH
BEGIN:VEVENT
UID:69e88ccd61b80
DTSTAMP:20260422T085437Z
DTSTART:20260414T112900Z
DTEND:20260414T112900Z
LOCATION:Bioceres Arena Cafferata 729
SUMMARY:JORGE DREXLER
DESCRIPTION:El reconocido cantautor uruguayo Jorge Drexler llega a Rosario 
 para presentarse en Bioceres Arena con un concierto que invita a recorrer a
 lgunas de las canciones más destacadas de su carrera. Ganador de múltiple
 s premios internacionales y dueño de un estilo que combina poesía\,  sens
 ibilidad y experimentación sonora\,  Drexler propone un[..]\nhttps://rosar
 iolaciudad.com.ar/agenda/jorge-drexler-2/
URL:https://rosariolaciudad.com.ar/agenda/jorge-drexler-2/
END:VEVENT
END:VCALENDAR