BEGIN:VCALENDAR
VERSION:2.0
PRODID:-//eventon.com NONSGML v1.0//EN
CALSCALE:GREGORIAN
METHOD:PUBLISH
BEGIN:VEVENT
UID:69e62250c75ae
DTSTAMP:20260420T125544Z
DTSTART:20260414T233000Z
DTEND:20260414T233000Z
LOCATION:Autódromo Municipal Av. Jorge Newbery
SUMMARY:RICKY MARTIN
DESCRIPTION:El cantante puertorriqueño Ricky Martin convertirá a la ciuda
 d en el epicentro de la música latina con su llegada en el marco de la gir
 a mundial “Ricky Martin Live 2026”. El show promete ser mucho más que 
 un recital: una verdadera celebración de su legado musical\,  la confirmac
 ión de su[..]\nhttps://rosariolaciudad.com.ar/agenda/ricky-martin/
URL:https://rosariolaciudad.com.ar/agenda/ricky-martin/
END:VEVENT
END:VCALENDAR