BEGIN:VCALENDAR
VERSION:2.0
PRODID:-//eventon.com NONSGML v1.0//EN
CALSCALE:GREGORIAN
METHOD:PUBLISH
BEGIN:VEVENT
UID:69e858d8c24f0
DTSTAMP:20260422T051256Z
DTSTART:20260305T233000Z
DTEND:20260305T233000Z
LOCATION:Centro cultural atlas
SUMMARY:RUBEN GOLDÍN
DESCRIPTION:El destacado cantautor rosarino Rubén Goldín\,  referente ese
 ncial de la Trova Rosarina\,  regresa al escenario con un recital íntimo y
  profundamente emotivo\,  en el que repasará su camino solista a través d
 e canciones que integran sus ocho álbumes de estudio. Con una trayectoria 
 que lo posiciona como una figura clave[..]\nhttps://rosariolaciudad.com.ar/
 agenda/ruben-goldin/
URL:https://rosariolaciudad.com.ar/agenda/ruben-goldin/
END:VEVENT
END:VCALENDAR