BEGIN:VCALENDAR
VERSION:2.0
PRODID:-//eventon.com NONSGML v1.0//EN
CALSCALE:GREGORIAN
METHOD:PUBLISH
BEGIN:VEVENT
UID:69e858d849917
DTSTAMP:20260422T051256Z
DTSTART:20260314T230000Z
DTEND:20260314T230000Z
LOCATION:JAGUAR HAÜS Rodríguez 198 bis
SUMMARY:FACU MARTINEZ EN NOCHE LATINA
DESCRIPTION:El referente de la cumbia rosarina Facu Martínez comienza una 
 nueva etapa en su carrera con varias presentaciones durante el año\,  entr
 e ellas un show en el escenario de Jaguar Haüs durante marzo. La voz romá
 ntica del género también anticipa el lanzamiento de canciones inéditas e
 n todas sus plataformas y[..]\nhttps://rosariolaciudad.com.ar/agenda/facu-m
 artinez/
URL:https://rosariolaciudad.com.ar/agenda/facu-martinez/
END:VEVENT
END:VCALENDAR