BEGIN:VCALENDAR
VERSION:2.0
PRODID:-//eventon.com NONSGML v1.0//EN
CALSCALE:GREGORIAN
METHOD:PUBLISH
BEGIN:VEVENT
UID:69e98eb568177
DTSTAMP:20260423T031501Z
DTSTART:20260426T000000Z
DTEND:20260426T000000Z
LOCATION:Teatro Broadway SAN LORENZO 1223 ROSARIO
SUMMARY:UNA CLASE ESPECIAL
DESCRIPTION:La comedia “Una clase especial” se presenta el sábado 25 d
 e abril a las 21:00 hs. en el Teatro Broadway Rosario\,  con las actuacione
 s de Damián De Santo y Cristian Sancho. La obra propone una noche de humor
  y enredos\,  con el carisma y la química de dos reconocidos actores[..]\n
 https://rosariolaciudad.com.ar/agenda/una-clase-especial-2/
URL:https://rosariolaciudad.com.ar/agenda/una-clase-especial-2/
END:VEVENT
END:VCALENDAR