BEGIN:VCALENDAR
VERSION:2.0
PRODID:-//eventon.com NONSGML v1.0//EN
CALSCALE:GREGORIAN
METHOD:PUBLISH
BEGIN:VEVENT
UID:69e98eb4a8b26
DTSTAMP:20260423T031500Z
DTSTART:20260424T230000Z
DTEND:20260424T230000Z
LOCATION:Teatro Broadway SAN LORENZO 1223 ROSARIO
SUMMARY:LAGO DE LOS CISNES Y PIEZAS MAESTRAS
DESCRIPTION:El clásico ballet Lago de los Cisnes llega junto a un repertor
 io de grandes obras en “Piezas Maestras”. La propuesta invita al públi
 co a disfrutar de una velada de excelencia artística\,  con la elegancia y
  el virtuosismo que han convertido a esta obra en uno de los títulos más 
 admirados[..]\nhttps://rosariolaciudad.com.ar/agenda/lago-de-los-cisnes-y-p
 iezas-maestras/
URL:https://rosariolaciudad.com.ar/agenda/lago-de-los-cisnes-y-piezas-maestras/
END:VEVENT
END:VCALENDAR