BEGIN:VCALENDAR
VERSION:2.0
PRODID:-//eventon.com NONSGML v1.0//EN
CALSCALE:GREGORIAN
METHOD:PUBLISH
BEGIN:VEVENT
UID:69e6212e63ff4
DTSTAMP:20260420T125054Z
DTSTART:20260418T000000Z
DTEND:20260418T000000Z
LOCATION:Teatro Broadway SAN LORENZO 1223 ROSARIO
SUMMARY:GOD SAVE THE QUEEN
DESCRIPTION:God Save the Queen\,  considerado uno de los mejores homenajes 
 del mundo a Queen\,  llega a Rosario con un show que recrea con gran fideli
 dad la potencia musical y la estética de la legendaria banda británica\, 
  recorriendo sus grandes clásicos en una puesta impactante que ha conquist
 ado escenarios internacionales. La[..]\nhttps://rosariolaciudad.com.ar/agen
 da/god-save-the-queen/
URL:https://rosariolaciudad.com.ar/agenda/god-save-the-queen/
END:VEVENT
END:VCALENDAR