BEGIN:VCALENDAR
VERSION:2.0
PRODID:-//eventon.com NONSGML v1.0//EN
CALSCALE:GREGORIAN
METHOD:PUBLISH
BEGIN:VEVENT
UID:69e627d3caaf1
DTSTAMP:20260420T131915Z
DTSTART:20260417T000000Z
DTEND:20260417T000000Z
LOCATION:Teatro Broadway SAN LORENZO 1223 ROSARIO
SUMMARY:ADOLESCENCIA\,  UN DESAFIO POSIBLE CON ALE SCHUJMAN
DESCRIPTION:Adolescencia\,  un desafío posible propone un encuentro pensad
 o para compartir en familia\,  donde se abordan los vínculos con los hijos
  desde una mirada cercana y reflexiva\,  poniendo en valor el amor propio c
 omo una herramienta fundamental de protección y crecimiento. El unipersona
 l del psicólogo Ale Schujman\,  con dirección de Eugenia[..]\nhttps://ros
 ariolaciudad.com.ar/agenda/adolescencia-un-desafio-posible-con-ale-schujman
 /
URL:https://rosariolaciudad.com.ar/agenda/adolescencia-un-desafio-posible-con-ale-schujman/
END:VEVENT
END:VCALENDAR