BEGIN:VCALENDAR
VERSION:2.0
PRODID:-//eventon.com NONSGML v1.0//EN
CALSCALE:GREGORIAN
METHOD:PUBLISH
BEGIN:VEVENT
UID:69e858d7c084c
DTSTAMP:20260422T051255Z
DTSTART:20260307
DTEND:20260308
LOCATION:La Orilla Infinita Teatro Colón 2148
SUMMARY:LUNA GATUNA
DESCRIPTION:Basada en el cuento El gato que quiso comerse la luna de Javier
  Villafañe\,  con adaptación de Laura Carassai\,  Luna Gatuna propone una
  experiencia escénica para niños de 2 a 7 años donde la narración cobra
  vida a través de títeres de mesa\,  objetos y recursos sonoros. La actri
 z titiritera[..]\nhttps://rosariolaciudad.com.ar/agenda/luna-gatuna/
URL:https://rosariolaciudad.com.ar/agenda/luna-gatuna/
END:VEVENT
END:VCALENDAR