BEGIN:VCALENDAR
VERSION:2.0
PRODID:-//eventon.com NONSGML v1.0//EN
CALSCALE:GREGORIAN
METHOD:PUBLISH
BEGIN:VEVENT
UID:69e858d74f46b
DTSTAMP:20260422T051255Z
DTSTART:20260329T000000Z
DTEND:20260329T010000Z
LOCATION:Espacio Bravo Teatro Catamarca 3624
SUMMARY:LAS ESCENAS SECUNDARIAS
DESCRIPTION:Â¿QuÃ© es lo que realmente construye una historia de amor? Â¿Lo
 s grandes acontecimientos o esos momentos aparentemente menores que\,  acum
 ulados\,  lo dicen todo? DirecciÃ³n y Dramaturgia: Romina Mazzadi Arro ActÃ
 ºan: Vanina Frustagli y MartÃ­n DiÃ©guez PodÃ©s adquirir tus entradas al 34
 16455206 MirÃ¡ todos los eventos de nuestra agenda\nhttps://rosariolaciudad
 .com.ar/agenda/las-escenas-secundarias-2/
URL:https://rosariolaciudad.com.ar/agenda/las-escenas-secundarias-2/
END:VEVENT
END:VCALENDAR