BEGIN:VCALENDAR
VERSION:2.0
PRODID:-//eventon.com NONSGML v1.0//EN
CALSCALE:GREGORIAN
METHOD:PUBLISH
BEGIN:VEVENT
UID:69e858d6c8df5
DTSTAMP:20260422T051254Z
DTSTART:20260307T230000Z
DTEND:20260307T230000Z
LOCATION:Sala de las Artes Suipacha y Güemes
SUMMARY:DESCARRILADOS - BUENAYUNTA 
DESCRIPTION:Descarrilados\,  el tributo más convocante a La renga junto a 
 Buenayunta que vuelve a los escenarios después de 10 años para festejar e
 l día de &#8220;Los mismos de siempre&#8221;\,  cómo se denomina el públ
 ico fanático de &#8220;La Renga&#8221;. El 73 se convirtió en un símbolo
  de unión y celebración por[..]\nhttps://rosariolaciudad.com.ar/agenda/di
 a-de-lmds-7-3-descarrilados-buenayunta-2/
URL:https://rosariolaciudad.com.ar/agenda/dia-de-lmds-7-3-descarrilados-buenayunta-2/
END:VEVENT
END:VCALENDAR