BEGIN:VCALENDAR
VERSION:2.0
PRODID:-//eventon.com NONSGML v1.0//EN
CALSCALE:GREGORIAN
METHOD:PUBLISH
BEGIN:VEVENT
UID:69e858d94e567
DTSTAMP:20260422T051257Z
DTSTART:20260308T000000Z
DTEND:20260308T000000Z
LOCATION:multiespacio cultural “Que sea rock” SANTA FE 1166
SUMMARY:JAF
DESCRIPTION:Juan Antonio Ferreyra desembarca en Rosario con su banda como p
 arte de la gira 2026\,  en un show que recorre una vida dedicada al rock. D
 esde sus comienzos adolescentes en una banda barrial hasta su proyección n
 acional tras integrar RIFF por invitación de Pappo y Vitico\,  JAF constru
 yó una carrera[..]\nhttps://rosariolaciudad.com.ar/agenda/jaf/
URL:https://rosariolaciudad.com.ar/agenda/jaf/
END:VEVENT
END:VCALENDAR