BEGIN:VCALENDAR
VERSION:2.0
PRODID:-//eventon.com NONSGML v1.0//EN
CALSCALE:GREGORIAN
METHOD:PUBLISH
BEGIN:VEVENT
UID:69e8a10427924
DTSTAMP:20260422T102052Z
DTSTART:20260214T160000Z
DTEND:20260217T025900Z
LOCATION:Predio Ex Rural Bv oroño 2493
SUMMARY:CARNAVALES 2026
DESCRIPTION:Rosario se prepara para vivir tres días a puro ritmo con una n
 ueva edición del Carnaval\,  una de las celebraciones culturales más impo
 rtantes de la ciudad\,  que tendrá lugar en el predio de la ex-Rural como 
 punto de encuentro para disfrutar de música\,  color\,  danza e identidad 
 barrial; una propuesta[..]\nhttps://rosariolaciudad.com.ar/agenda/carnavale
 s-2026/
URL:https://rosariolaciudad.com.ar/agenda/carnavales-2026/
END:VEVENT
END:VCALENDAR