BEGIN:VCALENDAR
VERSION:2.0
PRODID:-//eventon.com NONSGML v1.0//EN
CALSCALE:GREGORIAN
METHOD:PUBLISH
BEGIN:VEVENT
UID:69e858fd05d06
DTSTAMP:20260422T051333Z
DTSTART:20260306T220000Z
DTEND:20260307T220000Z
LOCATION:Teatro La Comedia Mitre 958
SUMMARY:LO QUE EL RÍO HACE
DESCRIPTION:Amelia vive desbordada\,  atrapada entre objetos\,  rutinas y d
 emandas que pesan sobre su presente. La muerte de su padre la empuja a regr
 esar al pueblo de su infancia\,  un lugar extraño y vacío donde casi nada
  permanece igual\,  excepto el río\,  que la enfrenta con su propio reflej
 o y la[..]\nhttps://rosariolaciudad.com.ar/agenda/lo-que-el-rio-hace/
URL:https://rosariolaciudad.com.ar/agenda/lo-que-el-rio-hace/
END:VEVENT
END:VCALENDAR