BEGIN:VCALENDAR
VERSION:2.0
PRODID:-//eventon.com NONSGML v1.0//EN
CALSCALE:GREGORIAN
METHOD:PUBLISH
BEGIN:VEVENT
UID:69e858fdae18f
DTSTAMP:20260422T051333Z
DTSTART:20260307T210000Z
DTEND:20260307T210000Z
LOCATION:Anfiteatro Municipal Humberto de Nito Av. Diario La Capital 1750
SUMMARY:EL MATO A UN POLICIA MOTORIZADO - MARILINA BERTOLDI
DESCRIPTION:Noches del Lunario reúne en una misma noche a Él Mató a un P
 olicía Motorizado\,  Marilina Bertoldi e Indios\,  tres referentes de la m
 úsica argentina actual que compartirán escenario en un show imperdible\, 
  con canciones emblemáticas\,  nuevas búsquedas sonoras y la energía que
  los convirtió en protagonistas de la escena[..]\nhttps://rosariolaciudad.
 com.ar/agenda/el-mato-a-un-policia-motorizado-marilina-bertoldi/
URL:https://rosariolaciudad.com.ar/agenda/el-mato-a-un-policia-motorizado-marilina-bertoldi/
END:VEVENT
END:VCALENDAR