BEGIN:VCALENDAR
VERSION:2.0
PRODID:-//eventon.com NONSGML v1.0//EN
CALSCALE:GREGORIAN
METHOD:PUBLISH
BEGIN:VEVENT
UID:69e858fd4532d
DTSTAMP:20260422T051333Z
DTSTART:20260307T220000Z
DTEND:20260307T220000Z
LOCATION:Bioceres Arena Cafferata 729
SUMMARY:CATUPECU MACHU - MASSACRE
DESCRIPTION:Noches del Lunario presenta una noche imperdible con Catupecu M
 achu y Massacre\,  dos bandas emblemáticas del rock argentino que se unen 
 en un mismo escenario para ofrecer un show cargado de potencia\,  recorrido
  por sus grandes canciones y la energía única que las convirtió en refer
 entes de varias generaciones. Podés[..]\nhttps://rosariolaciudad.com.ar/ag
 enda/catupecu-machu-massacre/
URL:https://rosariolaciudad.com.ar/agenda/catupecu-machu-massacre/
END:VEVENT
END:VCALENDAR