BEGIN:VCALENDAR
VERSION:2.0
PRODID:-//eventon.com NONSGML v1.0//EN
CALSCALE:GREGORIAN
METHOD:PUBLISH
BEGIN:VEVENT
UID:69e6066933585
DTSTAMP:20260420T105641Z
DTSTART:20260418T000000Z
DTEND:20260419T000000Z
LOCATION:Anfiteatro Municipal Humberto de Nito Av. Diario La Capital 1750
SUMMARY:LOS FABULOSOS CADILLACS
DESCRIPTION:La banda celebra 40 aÃ±os de trayectoria con un show especial q
 ue recorre su historia\,  sus canciones mÃ¡s emblemÃ¡ticas y el espÃ­ritu q
 ue la convirtiÃ³ en un referente para varias generaciones. Una noche de fes
 tejo y emociÃ³n que reafirma su vigencia y su lugar en la historia de la mÃ
 ºsica\, [..]\nhttps://rosariolaciudad.com.ar/agenda/los-fabulosos-cadillacs
 /
URL:https://rosariolaciudad.com.ar/agenda/los-fabulosos-cadillacs/
END:VEVENT
END:VCALENDAR