BEGIN:VCALENDAR
VERSION:2.0
PRODID:-//eventon.com NONSGML v1.0//EN
CALSCALE:GREGORIAN
METHOD:PUBLISH
BEGIN:VEVENT
UID:69eb959890db0
DTSTAMP:20260424T160856Z
DTSTART:20260226T150000Z
DTEND:20260313T150000Z
LOCATION:Showcase Cinemas Rosario Junín 501\,  S2013 DJK\,  Santa Fe
SUMMARY:NUREMBERG: EL JUICIO DEL SIGLO
DESCRIPTION:En los años posteriores a la Segunda Guerra Mundial\,  mientra
 s el mundo enfrenta el impacto del Holocausto\,  el psiquiatra del ejércit
 o estadounidense Douglas Kelley recibe una misión excepcional: evaluar la 
 salud mental de Hermann Göring\,  ex mariscal del Reich y mano derecha de 
 Hitler\,  junto a otros altos dirigentes nazis[..]\nhttps://rosariolaciudad
 .com.ar/agenda/nuremberg-el-juicio-del-siglo/
URL:https://rosariolaciudad.com.ar/agenda/nuremberg-el-juicio-del-siglo/
END:VEVENT
END:VCALENDAR