BEGIN:VCALENDAR
VERSION:2.0
PRODID:-//eventon.com NONSGML v1.0//EN
CALSCALE:GREGORIAN
METHOD:PUBLISH
BEGIN:VEVENT
UID:69e8a10e0b290
DTSTAMP:20260422T102102Z
DTSTART:20260417T000000Z
DTEND:20260417T000000Z
LOCATION:Teatro El Circulo Laprida y Mendoza
SUMMARY:DIEGO\,  EL CÍGALA
DESCRIPTION:Diego El Cigala regresa a los escenarios de la región con Flam
 enco y Son\,  un espectáculo que lo traerá a Rosario el jueves 16 de abri
 l de 2026\,  a las 21 h\,  en el Teatro El Círculo. Bajo la producción de
  Damián Sequeira\,  el reconocido cantaor propone un recorrido íntimo[..]
 \nhttps://rosariolaciudad.com.ar/agenda/diego-el-cigala/
URL:https://rosariolaciudad.com.ar/agenda/diego-el-cigala/
END:VEVENT
END:VCALENDAR