BEGIN:VCALENDAR
VERSION:2.0
PRODID:-//eventon.com NONSGML v1.0//EN
CALSCALE:GREGORIAN
METHOD:PUBLISH
BEGIN:VEVENT
UID:69e858d991653
DTSTAMP:20260422T051257Z
DTSTART:20260621T000000Z
DTEND:20260621T000000Z
LOCATION:City Center Rosario Bv. OroÃ±o y Av. CircunvalaciÃ³n
SUMMARY:CANDLELIGHT TRIBUTO A ADELE
DESCRIPTION:La mÃºsica de Adele llega en una experiencia Ãºnica con Candlel
 ight\,  un concierto Ã­ntimo iluminado por velas que invita al pÃºblico a s
 umergirse en un recorrido sonoro y sensorial por sus canciones mÃ¡s emblemÃ
 ¡ticas. Interpretado en vivo por el Cuarteto Delta â€”integrado por dos vio
 lines\,  viola y violoncheloâ€”\,  el espectÃ¡culo[..]\nhttps://rosariolaci
 udad.com.ar/agenda/candlelight-adele/
URL:https://rosariolaciudad.com.ar/agenda/candlelight-adele/
END:VEVENT
END:VCALENDAR