BEGIN:VCALENDAR
VERSION:2.0
PRODID:-//eventon.com NONSGML v1.0//EN
CALSCALE:GREGORIAN
METHOD:PUBLISH
BEGIN:VEVENT
UID:69e8a10febded
DTSTAMP:20260422T102103Z
DTSTART:20260419T000000Z
DTEND:20260419T000000Z
LOCATION:Coloso Marcelo Bielsa Av. Int. Morcillo 2501-2699\,  S2000 Rosario\,  Santa Fe
SUMMARY:TINI
DESCRIPTION:La cantante y compositora Tini Stoessel regresa a Rosario para 
 presentar Futttura\,  su nuevo y ambicioso espectáculo. Con una propuesta 
 renovada que combina música\,  puesta en escena y una fuerte identidad art
 ística\,  Tini vuelve a encontrarse con su público en una etapa clave de 
 su carrera\,  reafirmando su lugar como[..]\nhttps://rosariolaciudad.com.ar
 /agenda/tini/
URL:https://rosariolaciudad.com.ar/agenda/tini/
END:VEVENT
END:VCALENDAR