BEGIN:VCALENDAR
VERSION:2.0
PRODID:-//eventon.com NONSGML v1.0//EN
CALSCALE:GREGORIAN
METHOD:PUBLISH
BEGIN:VEVENT
UID:69e858d6c77f5
DTSTAMP:20260422T051254Z
DTSTART:20260307T000000Z
DTEND:20260307T000000Z
LOCATION:Teatro Broadway SAN LORENZO 1223 ROSARIO
SUMMARY:ANTONIO JOSÉ
DESCRIPTION:Antonio José\,  uno de los artistas españoles más exitosos d
 e la música en español y ganador de La Voz España en 2015\,  volverá a 
 presentarse en Rosario como parte de su gira internacional en marzo de 2026
 \,  con un show en el Teatro Broadway que forma parte de una serie[..]\nhtt
 ps://rosariolaciudad.com.ar/agenda/antonio-jose/
URL:https://rosariolaciudad.com.ar/agenda/antonio-jose/
END:VEVENT
END:VCALENDAR