BEGIN:VCALENDAR
VERSION:2.0
PRODID:-//eventon.com NONSGML v1.0//EN
CALSCALE:GREGORIAN
METHOD:PUBLISH
BEGIN:VEVENT
UID:69e506d5b5445
DTSTAMP:20260419T164613Z
DTSTART:20251213T220000Z
DTEND:20251213T220000Z
LOCATION:Balneario La Florida. Avenida costanera s/n\,  S2005NVA Rosario\,  Santa Fe
SUMMARY:HIJAS DE SHAKESPEARE
DESCRIPTION:Hijas de Shakespeare es una comedia para todo público que prop
 one un encuentro irreverente entre Julieta\,  Desdémona y Ofelia\,  quiene
 s deciden llevar a juicio al propio Shakespeare por los destinos que les es
 cribió. Con humor\,  música en vivo y guiños a los textos clásicos\,  l
 a obra combina técnicas de clown[..]\nhttps://rosariolaciudad.com.ar/agend
 a/hijas-de-shakespeare/
URL:https://rosariolaciudad.com.ar/agenda/hijas-de-shakespeare/
END:VEVENT
END:VCALENDAR