BEGIN:VCALENDAR
VERSION:2.0
PRODID:-//eventon.com NONSGML v1.0//EN
CALSCALE:GREGORIAN
METHOD:PUBLISH
BEGIN:VEVENT
UID:69e506eaf210b
DTSTAMP:20260419T164634Z
DTSTART:20251215T000000Z
DTEND:20251215T000000Z
LOCATION:Casa Brava Pichincha 120
SUMMARY:MERY GRANADOS
DESCRIPTION:Luego de un año inolvidable en el que llevó su música a Euro
 pa y recorrió los principales escenarios de Argentina\,  vuelve a su ciuda
 d natal para despedir el 2025 con un show especial que celebra su crecimien
 to\,  sus nuevas canciones y el cariño del público que la acompaña desde
  siempre.[..]\nhttps://rosariolaciudad.com.ar/agenda/mery-granados/
URL:https://rosariolaciudad.com.ar/agenda/mery-granados/
END:VEVENT
END:VCALENDAR