BEGIN:VCALENDAR
VERSION:2.0
PRODID:-//eventon.com NONSGML v1.0//EN
CALSCALE:GREGORIAN
METHOD:PUBLISH
BEGIN:VEVENT
UID:69e506d617e4e
DTSTAMP:20260419T164614Z
DTSTART:20251213T230000Z
DTEND:20251215T000000Z
LOCATION:La Orilla Infinita Teatro Colón 2148
SUMMARY:EN CADA LUGAR DEL MUNDO\,  EN ESTE INSTANTE
DESCRIPTION:Ambientada en la convulsionada Argentina de diciembre de 2001\,
   la historia sigue a un matrimonio al borde del quiebre que emprende un vi
 aje en busca de calma. Un imprevisto los obliga a detenerse y pasar la noch
 e en una habitación al costado de la ruta\,  alquilada por Nelson\,  quien
  pronto[..]\nhttps://rosariolaciudad.com.ar/agenda/en-cada-lugar-del-mundo-
 en-este-instante/
URL:https://rosariolaciudad.com.ar/agenda/en-cada-lugar-del-mundo-en-este-instante/
END:VEVENT
END:VCALENDAR