BEGIN:VCALENDAR
VERSION:2.0
PRODID:-//eventon.com NONSGML v1.0//EN
CALSCALE:GREGORIAN
METHOD:PUBLISH
BEGIN:VEVENT
UID:69e506eaa91ea
DTSTAMP:20260419T164634Z
DTSTART:20251214T020000Z
DTEND:20251214T020000Z
LOCATION:Bioceres Arena Cafferata 729
SUMMARY:CUMBIÓN DEL PARANA
DESCRIPTION:El Cumbión del Paraná llega con una noche explosiva para los 
 amantes de la movida tropical. Cacho Deicas\,  Jambao y Homero y sus Alegre
 s se unen en un espectáculo imperdible\,  cargado de clásicos\,  ritmo y 
 fiesta asegurada a orillas del río. Una celebración popular que promete h
 acer bailar a todo[..]\nhttps://rosariolaciudad.com.ar/agenda/cumbion-del-p
 arana-2/
URL:https://rosariolaciudad.com.ar/agenda/cumbion-del-parana-2/
END:VEVENT
END:VCALENDAR