BEGIN:VCALENDAR
VERSION:2.0
PRODID:-//eventon.com NONSGML v1.0//EN
CALSCALE:GREGORIAN
METHOD:PUBLISH
BEGIN:VEVENT
UID:69e9de09cb2d2
DTSTAMP:20260423T085329Z
DTSTART:20251207T000000Z
DTEND:20251207T000000Z
LOCATION:Petit Salón de Plataforma Lavardén Mendoza 1085
SUMMARY:EVA Y NADIA
DESCRIPTION:Eva y Nadia presentan en vivo su tercer disco\,  grabado en jun
 io de 2025\,  donde vuelven a explorar músicas de raíz anónima\,  vidala
 s\,  coplas y obras de autores fundamentales del siglo XX. En esta nueva pr
 opuesta\,  el dúo recupera además la sonoridad del arpa criolla en el fol
 klore norteño\,  un[..]\nhttps://rosariolaciudad.com.ar/agenda/eva-y-nadia
 /
URL:https://rosariolaciudad.com.ar/agenda/eva-y-nadia/
END:VEVENT
END:VCALENDAR