BEGIN:VCALENDAR
VERSION:2.0
PRODID:-//eventon.com NONSGML v1.0//EN
CALSCALE:GREGORIAN
METHOD:PUBLISH
BEGIN:VEVENT
UID:69e4cd2383b6f
DTSTAMP:20260419T124003Z
DTSTART:20251208T000000Z
DTEND:20251208T000000Z
LOCATION:La Usina Social Jujuy 2844
SUMMARY:FLOR DE PEÃ‘A CON YAMILA CAFRUNE
DESCRIPTION:Flor de PeÃ±a cierra el aÃ±o en Usina Social con una visita esp
 ecial: Yamila Cafrune llega a Rosario para compartir Cafruneando\,  un encu
 entro Ã­ntimo entre la cantora y su pÃºblico. En este espacio cargado de mÃ
 ºsica\,  relatos e imÃ¡genes\,  Yamila revive la vida y el legado de su pad
 re\,  Don[..]\nhttps://rosariolaciudad.com.ar/agenda/flor-de-pena-con-yamil
 a-cafrune/
URL:https://rosariolaciudad.com.ar/agenda/flor-de-pena-con-yamila-cafrune/
END:VEVENT
END:VCALENDAR