BEGIN:VCALENDAR
VERSION:2.0
PRODID:-//eventon.com NONSGML v1.0//EN
CALSCALE:GREGORIAN
METHOD:PUBLISH
BEGIN:VEVENT
UID:69e9e820426de
DTSTAMP:20260423T093632Z
DTSTART:20251221T133000Z
DTEND:20251221T133000Z
LOCATION:EXPLANADA DEL MUSEO DE LA CIUDAD OROÑO 2361
SUMMARY:NAVIDAD MADE IN ARGENTINA
DESCRIPTION:En Navidad: Made in Argentina\,  tres duendes de la Sucursal Ar
 gentina de Papá Noel emprenden una misión contrarreloj: encontrar un rega
 lo perdido antes de la llegada de la Navidad. En medio de una aventura tan 
 caótica como divertida\,  descubrirán que el obsequio más valioso no se 
 fabrica\,  sino que se[..]\nhttps://rosariolaciudad.com.ar/agenda/navidad-m
 ade-in-argentina/
URL:https://rosariolaciudad.com.ar/agenda/navidad-made-in-argentina/
END:VEVENT
END:VCALENDAR