BEGIN:VCALENDAR
VERSION:2.0
PRODID:-//eventon.com NONSGML v1.0//EN
CALSCALE:GREGORIAN
METHOD:PUBLISH
BEGIN:VEVENT
UID:69e9f2868cead
DTSTAMP:20260423T102054Z
DTSTART:20251208T220000Z
DTEND:20251209T020000Z
LOCATION:Av. Pellegrini y Bv. Oroño. Av. Pellegrini y Bv. Oroño.
SUMMARY:ENCENDIDO DEL ARBOL NAVIDEÑO
DESCRIPTION:Este lunes 8 de diciembre\,  la tradicional rotonda de Pellegri
 ni y Oroño volverá a iluminarse con el encendido del Arbolito de Navidad\
 ,  en un evento gratuito para disfrutar en familia. Desde las 19 hasta las 
 23 h\,  con la conducción de Leo Farjat y Agostina Cialdella\,  habrá mú
 sica en vivo[..]\nhttps://rosariolaciudad.com.ar/agenda/encendido-del-arbol
 -navideno/
URL:https://rosariolaciudad.com.ar/agenda/encendido-del-arbol-navideno/
END:VEVENT
END:VCALENDAR