BEGIN:VCALENDAR
VERSION:2.0
PRODID:-//eventon.com NONSGML v1.0//EN
CALSCALE:GREGORIAN
METHOD:PUBLISH
BEGIN:VEVENT
UID:69e5067ecf3c5
DTSTAMP:20260419T164446Z
DTSTART:20251213T000000Z
DTEND:20251213T000000Z
LOCATION:City Center Rosario Bv. Oroño y Av. Circunvalación
SUMMARY:JAVIER SANTAOLALLA
DESCRIPTION:Un show único que fusiona música\,  poesía y ciencia\,  crea
 do y conducido por Javier Santaolalla\,  Doctor en Física de Partículas y
  reconocido divulgador científico\,  para explorar las emociones humanas m
 ás profundas. La propuesta transforma el desamor en arte y lo entrelaza co
 n reflexiones sobre la vida\,  el amor y la[..]\nhttps://rosariolaciudad.co
 m.ar/agenda/javier-santaolalla/
URL:https://rosariolaciudad.com.ar/agenda/javier-santaolalla/
END:VEVENT
END:VCALENDAR