BEGIN:VCALENDAR
VERSION:2.0
PRODID:-//eventon.com NONSGML v1.0//EN
CALSCALE:GREGORIAN
METHOD:PUBLISH
BEGIN:VEVENT
UID:69e9f2a62cc3b
DTSTAMP:20260423T102126Z
DTSTART:20251208T230000Z
DTEND:20251208T230000Z
LOCATION:Teatro El Circulo Laprida y Mendoza
SUMMARY:EL CORSARIO
DESCRIPTION:“El Corsario” se presentará en Rosario el lunes 8 de dicie
 mbre a las 20 hs en el Teatro El Círculo\,  con el ballet completo de Mari
 us Petipa y música de Adolphe Adam\,  inspirado en el poema de Lord Byron.
  La función contará con solistas y primeros bailarines del Teatro Colón[
 ..]\nhttps://rosariolaciudad.com.ar/agenda/el-corsario/
URL:https://rosariolaciudad.com.ar/agenda/el-corsario/
END:VEVENT
END:VCALENDAR