BEGIN:VCALENDAR
VERSION:2.0
PRODID:-//eventon.com NONSGML v1.0//EN
CALSCALE:GREGORIAN
METHOD:PUBLISH
BEGIN:VEVENT
UID:69e9f04918d43
DTSTAMP:20260423T101121Z
DTSTART:20251207T230000Z
DTEND:20251207T230000Z
LOCATION:Teatro Astengo Mitre 754
SUMMARY:ALBERDI\,  EL MÚSICAL
DESCRIPTION:Alberdi\,  el musical llega a Rosario. La obra\,  creada por Pa
 blo Flores Torres\,  combina rap\,  folclore y teatro en una puesta potente
  con más de veinte artistas en escena\,  para narrar la vida y legado del 
 prócer Juan Bautista Alberdi. Tras agotar funciones en Buenos Aires y cons
 agrarse como un[..]\nhttps://rosariolaciudad.com.ar/agenda/alberdi-el-music
 al/
URL:https://rosariolaciudad.com.ar/agenda/alberdi-el-musical/
END:VEVENT
END:VCALENDAR