BEGIN:VCALENDAR
VERSION:2.0
PRODID:-//eventon.com NONSGML v1.0//EN
CALSCALE:GREGORIAN
METHOD:PUBLISH
BEGIN:VEVENT
UID:69e9f19bbed42
DTSTAMP:20260423T101659Z
DTSTART:20260525T025900Z
DTEND:20260525T025900Z
LOCATION:Bioceres Arena Cafferata 729
SUMMARY:NUESTRO ROMANCE
DESCRIPTION:Nuestro Romance llega a Rosario con un show especialmente prepa
 rado para recorrer las canciones más románticas y nostálgicas de artista
 s como Luis Miguel\,  Cristian Castro\,  Chayanne y Ricky Martin\,  entre o
 tros. La propuesta incluye además temas inéditos y la presencia de invita
 dos sorpresa\,  que harán de la noche una experiencia[..]\nhttps://rosario
 laciudad.com.ar/agenda/nuestro-romance/
URL:https://rosariolaciudad.com.ar/agenda/nuestro-romance/
END:VEVENT
END:VCALENDAR